Workbook

Sheet Settings
A1: Saudi, earlier law: employee share (annuities + SANED) | B1: 0.0975
A2: Saudi, earlier law: employer share (annuities + SANED + occupational hazards) | B2: 0.1175
A3: Saudi, new law: employee share (from July 2026) | B3: 0.1075
A4: Saudi, new law: employer share (from July 2026) | B4: 0.1275
A5: Non-Saudi: employer share (occupational hazards) | B5: 0.02
A6: Contributory wage minimum (SAR) | B6: 1500
A7: Contributory wage maximum (SAR) | B7: 45000
A8: Days used for a day's pay | B8: 30
A10: Check these rates on gosi.gov.sa. The new-law annuity rate rises by 0.5 points for each side every July until 2028.

Sheet Payroll
A1: Monthly payroll: [Company name] · [Month and year]
A3: # | B3: Employee | C3: ID / Iqama | D3: Nationality | E3: GOSI law | F3: Basic | G3: Housing | H3: Transport | I3: Other allowances | J3: Overtime pay | K3: Gross pay | L3: Unpaid days | M3: Absence deduction | N3: Contributory wage | O3: GOSI (employee) | P3: Other deductions | Q3: Net pay | R3: GOSI (employer)
A4: 1 | K4: =SUM(F4:J4) | M4: =IF(L4>0,ROUND((F4+G4+H4+I4)/'Settings'!$B$8*L4,2),0) | N4: =IF(F4+G4=0,0,MIN(MAX(F4+G4,'Settings'!$B$6),'Settings'!$B$7)) | O4: =IF(D4="Saudi",ROUND(N4*IF(E4="New",'Settings'!$B$3,'Settings'!$B$1),2),0) | Q4: =K4-M4-O4-P4 | R4: =IF(N4=0,0,ROUND(N4*IF(D4="Saudi",IF(E4="New",'Settings'!$B$4,'Settings'!$B$2),'Settings'!$B$5),2))
A5: 2 | K5: =SUM(F5:J5) | M5: =IF(L5>0,ROUND((F5+G5+H5+I5)/'Settings'!$B$8*L5,2),0) | N5: =IF(F5+G5=0,0,MIN(MAX(F5+G5,'Settings'!$B$6),'Settings'!$B$7)) | O5: =IF(D5="Saudi",ROUND(N5*IF(E5="New",'Settings'!$B$3,'Settings'!$B$1),2),0) | Q5: =K5-M5-O5-P5 | R5: =IF(N5=0,0,ROUND(N5*IF(D5="Saudi",IF(E5="New",'Settings'!$B$4,'Settings'!$B$2),'Settings'!$B$5),2))
A6: 3 | K6: =SUM(F6:J6) | M6: =IF(L6>0,ROUND((F6+G6+H6+I6)/'Settings'!$B$8*L6,2),0) | N6: =IF(F6+G6=0,0,MIN(MAX(F6+G6,'Settings'!$B$6),'Settings'!$B$7)) | O6: =IF(D6="Saudi",ROUND(N6*IF(E6="New",'Settings'!$B$3,'Settings'!$B$1),2),0) | Q6: =K6-M6-O6-P6 | R6: =IF(N6=0,0,ROUND(N6*IF(D6="Saudi",IF(E6="New",'Settings'!$B$4,'Settings'!$B$2),'Settings'!$B$5),2))
A7: 4 | K7: =SUM(F7:J7) | M7: =IF(L7>0,ROUND((F7+G7+H7+I7)/'Settings'!$B$8*L7,2),0) | N7: =IF(F7+G7=0,0,MIN(MAX(F7+G7,'Settings'!$B$6),'Settings'!$B$7)) | O7: =IF(D7="Saudi",ROUND(N7*IF(E7="New",'Settings'!$B$3,'Settings'!$B$1),2),0) | Q7: =K7-M7-O7-P7 | R7: =IF(N7=0,0,ROUND(N7*IF(D7="Saudi",IF(E7="New",'Settings'!$B$4,'Settings'!$B$2),'Settings'!$B$5),2))
A8: 5 | K8: =SUM(F8:J8) | M8: =IF(L8>0,ROUND((F8+G8+H8+I8)/'Settings'!$B$8*L8,2),0) | N8: =IF(F8+G8=0,0,MIN(MAX(F8+G8,'Settings'!$B$6),'Settings'!$B$7)) | O8: =IF(D8="Saudi",ROUND(N8*IF(E8="New",'Settings'!$B$3,'Settings'!$B$1),2),0) | Q8: =K8-M8-O8-P8 | R8: =IF(N8=0,0,ROUND(N8*IF(D8="Saudi",IF(E8="New",'Settings'!$B$4,'Settings'!$B$2),'Settings'!$B$5),2))
A9: 6 | K9: =SUM(F9:J9) | M9: =IF(L9>0,ROUND((F9+G9+H9+I9)/'Settings'!$B$8*L9,2),0) | N9: =IF(F9+G9=0,0,MIN(MAX(F9+G9,'Settings'!$B$6),'Settings'!$B$7)) | O9: =IF(D9="Saudi",ROUND(N9*IF(E9="New",'Settings'!$B$3,'Settings'!$B$1),2),0) | Q9: =K9-M9-O9-P9 | R9: =IF(N9=0,0,ROUND(N9*IF(D9="Saudi",IF(E9="New",'Settings'!$B$4,'Settings'!$B$2),'Settings'!$B$5),2))
A10: 7 | K10: =SUM(F10:J10) | M10: =IF(L10>0,ROUND((F10+G10+H10+I10)/'Settings'!$B$8*L10,2),0) | N10: =IF(F10+G10=0,0,MIN(MAX(F10+G10,'Settings'!$B$6),'Settings'!$B$7)) | O10: =IF(D10="Saudi",ROUND(N10*IF(E10="New",'Settings'!$B$3,'Settings'!$B$1),2),0) | Q10: =K10-M10-O10-P10 | R10: =IF(N10=0,0,ROUND(N10*IF(D10="Saudi",IF(E10="New",'Settings'!$B$4,'Settings'!$B$2),'Settings'!$B$5),2))
A11: 8 | K11: =SUM(F11:J11) | M11: =IF(L11>0,ROUND((F11+G11+H11+I11)/'Settings'!$B$8*L11,2),0) | N11: =IF(F11+G11=0,0,MIN(MAX(F11+G11,'Settings'!$B$6),'Settings'!$B$7)) | O11: =IF(D11="Saudi",ROUND(N11*IF(E11="New",'Settings'!$B$3,'Settings'!$B$1),2),0) | Q11: =K11-M11-O11-P11 | R11: =IF(N11=0,0,ROUND(N11*IF(D11="Saudi",IF(E11="New",'Settings'!$B$4,'Settings'!$B$2),'Settings'!$B$5),2))
A12: 9 | K12: =SUM(F12:J12) | M12: =IF(L12>0,ROUND((F12+G12+H12+I12)/'Settings'!$B$8*L12,2),0) | N12: =IF(F12+G12=0,0,MIN(MAX(F12+G12,'Settings'!$B$6),'Settings'!$B$7)) | O12: =IF(D12="Saudi",ROUND(N12*IF(E12="New",'Settings'!$B$3,'Settings'!$B$1),2),0) | Q12: =K12-M12-O12-P12 | R12: =IF(N12=0,0,ROUND(N12*IF(D12="Saudi",IF(E12="New",'Settings'!$B$4,'Settings'!$B$2),'Settings'!$B$5),2))
A13: 10 | K13: =SUM(F13:J13) | M13: =IF(L13>0,ROUND((F13+G13+H13+I13)/'Settings'!$B$8*L13,2),0) | N13: =IF(F13+G13=0,0,MIN(MAX(F13+G13,'Settings'!$B$6),'Settings'!$B$7)) | O13: =IF(D13="Saudi",ROUND(N13*IF(E13="New",'Settings'!$B$3,'Settings'!$B$1),2),0) | Q13: =K13-M13-O13-P13 | R13: =IF(N13=0,0,ROUND(N13*IF(D13="Saudi",IF(E13="New",'Settings'!$B$4,'Settings'!$B$2),'Settings'!$B$5),2))
A14: 11 | K14: =SUM(F14:J14) | M14: =IF(L14>0,ROUND((F14+G14+H14+I14)/'Settings'!$B$8*L14,2),0) | N14: =IF(F14+G14=0,0,MIN(MAX(F14+G14,'Settings'!$B$6),'Settings'!$B$7)) | O14: =IF(D14="Saudi",ROUND(N14*IF(E14="New",'Settings'!$B$3,'Settings'!$B$1),2),0) | Q14: =K14-M14-O14-P14 | R14: =IF(N14=0,0,ROUND(N14*IF(D14="Saudi",IF(E14="New",'Settings'!$B$4,'Settings'!$B$2),'Settings'!$B$5),2))
A15: 12 | K15: =SUM(F15:J15) | M15: =IF(L15>0,ROUND((F15+G15+H15+I15)/'Settings'!$B$8*L15,2),0) | N15: =IF(F15+G15=0,0,MIN(MAX(F15+G15,'Settings'!$B$6),'Settings'!$B$7)) | O15: =IF(D15="Saudi",ROUND(N15*IF(E15="New",'Settings'!$B$3,'Settings'!$B$1),2),0) | Q15: =K15-M15-O15-P15 | R15: =IF(N15=0,0,ROUND(N15*IF(D15="Saudi",IF(E15="New",'Settings'!$B$4,'Settings'!$B$2),'Settings'!$B$5),2))
... A53: 50 | K53: =SUM(F53:J53) | M53: =IF(L53>0,ROUND((F53+G53+H53+I53)/'Settings'!$B$8*L53,2),0) | N53: =IF(F53+G53=0,0,MIN(MAX(F53+G53,'Settings'!$B$6),'Settings'!$B$7)) | O53: =IF(D53="Saudi",ROUND(N53*IF(E53="New",'Settings'!$B$3,'Settings'!$B$1),2),0) | Q53: =K53-M53-O53-P53 | R53: =IF(N53=0,0,ROUND(N53*IF(D53="Saudi",IF(E53="New",'Settings'!$B$4,'Settings'!$B$2),'Settings'!$B$5),2))
B54: Total | F54: =SUM(F4:F53) | G54: =SUM(G4:G53) | H54: =SUM(H4:H53) | I54: =SUM(I4:I53) | J54: =SUM(J4:J53) | K54: =SUM(K4:K53) | M54: =SUM(M4:M53) | N54: =SUM(N4:N53) | O54: =SUM(O4:O53) | P54: =SUM(P4:P53) | Q54: =SUM(Q4:Q53) | R54: =SUM(R4:R53)

Sheet How to use
A1: Payroll: fill the yellow cells only. Gross, GOSI, deductions and net are calculated.
A2: GOSI law: choose Earlier for Saudis with contributions before 3 July 2024, New for those without. Ask GOSI if unsure.
A3: The contributory wage is basic plus housing, held between the minimum and maximum on the Settings sheet.
A4: Absence deduction = (basic + housing + transport + other allowances) / days for a day's pay × unpaid days. Adjust it if your contract says otherwise.
A5: Attendance: type one code per day from the list. The totals count each code.
A6: This sheet is a free template from RafiqHR (rafiqhr.com) and an estimate, not payroll or legal advice. RafiqHR runs payroll, GOSI and the Mudad file from one employee record.
