Workbook

Sheet الإعدادات
A1: سعودي، النظام السابق: حصة الموظف (المعاشات + ساند) | B1: 0.0975
A2: سعودي، النظام السابق: حصة صاحب العمل (المعاشات + ساند + الأخطار المهنية) | B2: 0.1175
A3: سعودي، النظام الجديد: حصة الموظف (من يوليو 2026) | B3: 0.1075
A4: سعودي، النظام الجديد: حصة صاحب العمل (من يوليو 2026) | B4: 0.1275
A5: غير سعودي: حصة صاحب العمل (الأخطار المهنية) | B5: 0.02
A6: الحد الأدنى للأجر الخاضع للاشتراك (ريال) | B6: 1500
A7: الحد الأعلى للأجر الخاضع للاشتراك (ريال) | B7: 45000
A8: عدد الأيام لحساب أجر اليوم | B8: 30
A10: تحقق من هذه النسب في موقع التأمينات الاجتماعية. ترتفع نسبة المعاشات في النظام الجديد نصف نقطة لكل طرف كل يوليو حتى 2028.

Sheet مسير الرواتب
A1: مسير الرواتب الشهري: [اسم المنشأة] · [الشهر والسنة]
A3: # | B3: الموظف | C3: الهوية / الإقامة | D3: الجنسية | E3: نظام التأمينات | F3: الأساسي | G3: السكن | H3: النقل | I3: بدلات أخرى | J3: العمل الإضافي | K3: إجمالي الاستحقاق | L3: أيام دون أجر | M3: خصم الغياب | N3: الأجر الخاضع للاشتراك | O3: التأمينات (الموظف) | P3: خصومات أخرى | Q3: صافي الراتب | R3: التأمينات (صاحب العمل)
A4: 1 | K4: =SUM(F4:J4) | M4: =IF(L4>0,ROUND((F4+G4+H4+I4)/'الإعدادات'!$B$8*L4,2),0) | N4: =IF(F4+G4=0,0,MIN(MAX(F4+G4,'الإعدادات'!$B$6),'الإعدادات'!$B$7)) | O4: =IF(D4="سعودي",ROUND(N4*IF(E4="الجديد",'الإعدادات'!$B$3,'الإعدادات'!$B$1),2),0) | Q4: =K4-M4-O4-P4 | R4: =IF(N4=0,0,ROUND(N4*IF(D4="سعودي",IF(E4="الجديد",'الإعدادات'!$B$4,'الإعدادات'!$B$2),'الإعدادات'!$B$5),2))
A5: 2 | K5: =SUM(F5:J5) | M5: =IF(L5>0,ROUND((F5+G5+H5+I5)/'الإعدادات'!$B$8*L5,2),0) | N5: =IF(F5+G5=0,0,MIN(MAX(F5+G5,'الإعدادات'!$B$6),'الإعدادات'!$B$7)) | O5: =IF(D5="سعودي",ROUND(N5*IF(E5="الجديد",'الإعدادات'!$B$3,'الإعدادات'!$B$1),2),0) | Q5: =K5-M5-O5-P5 | R5: =IF(N5=0,0,ROUND(N5*IF(D5="سعودي",IF(E5="الجديد",'الإعدادات'!$B$4,'الإعدادات'!$B$2),'الإعدادات'!$B$5),2))
A6: 3 | K6: =SUM(F6:J6) | M6: =IF(L6>0,ROUND((F6+G6+H6+I6)/'الإعدادات'!$B$8*L6,2),0) | N6: =IF(F6+G6=0,0,MIN(MAX(F6+G6,'الإعدادات'!$B$6),'الإعدادات'!$B$7)) | O6: =IF(D6="سعودي",ROUND(N6*IF(E6="الجديد",'الإعدادات'!$B$3,'الإعدادات'!$B$1),2),0) | Q6: =K6-M6-O6-P6 | R6: =IF(N6=0,0,ROUND(N6*IF(D6="سعودي",IF(E6="الجديد",'الإعدادات'!$B$4,'الإعدادات'!$B$2),'الإعدادات'!$B$5),2))
A7: 4 | K7: =SUM(F7:J7) | M7: =IF(L7>0,ROUND((F7+G7+H7+I7)/'الإعدادات'!$B$8*L7,2),0) | N7: =IF(F7+G7=0,0,MIN(MAX(F7+G7,'الإعدادات'!$B$6),'الإعدادات'!$B$7)) | O7: =IF(D7="سعودي",ROUND(N7*IF(E7="الجديد",'الإعدادات'!$B$3,'الإعدادات'!$B$1),2),0) | Q7: =K7-M7-O7-P7 | R7: =IF(N7=0,0,ROUND(N7*IF(D7="سعودي",IF(E7="الجديد",'الإعدادات'!$B$4,'الإعدادات'!$B$2),'الإعدادات'!$B$5),2))
A8: 5 | K8: =SUM(F8:J8) | M8: =IF(L8>0,ROUND((F8+G8+H8+I8)/'الإعدادات'!$B$8*L8,2),0) | N8: =IF(F8+G8=0,0,MIN(MAX(F8+G8,'الإعدادات'!$B$6),'الإعدادات'!$B$7)) | O8: =IF(D8="سعودي",ROUND(N8*IF(E8="الجديد",'الإعدادات'!$B$3,'الإعدادات'!$B$1),2),0) | Q8: =K8-M8-O8-P8 | R8: =IF(N8=0,0,ROUND(N8*IF(D8="سعودي",IF(E8="الجديد",'الإعدادات'!$B$4,'الإعدادات'!$B$2),'الإعدادات'!$B$5),2))
A9: 6 | K9: =SUM(F9:J9) | M9: =IF(L9>0,ROUND((F9+G9+H9+I9)/'الإعدادات'!$B$8*L9,2),0) | N9: =IF(F9+G9=0,0,MIN(MAX(F9+G9,'الإعدادات'!$B$6),'الإعدادات'!$B$7)) | O9: =IF(D9="سعودي",ROUND(N9*IF(E9="الجديد",'الإعدادات'!$B$3,'الإعدادات'!$B$1),2),0) | Q9: =K9-M9-O9-P9 | R9: =IF(N9=0,0,ROUND(N9*IF(D9="سعودي",IF(E9="الجديد",'الإعدادات'!$B$4,'الإعدادات'!$B$2),'الإعدادات'!$B$5),2))
A10: 7 | K10: =SUM(F10:J10) | M10: =IF(L10>0,ROUND((F10+G10+H10+I10)/'الإعدادات'!$B$8*L10,2),0) | N10: =IF(F10+G10=0,0,MIN(MAX(F10+G10,'الإعدادات'!$B$6),'الإعدادات'!$B$7)) | O10: =IF(D10="سعودي",ROUND(N10*IF(E10="الجديد",'الإعدادات'!$B$3,'الإعدادات'!$B$1),2),0) | Q10: =K10-M10-O10-P10 | R10: =IF(N10=0,0,ROUND(N10*IF(D10="سعودي",IF(E10="الجديد",'الإعدادات'!$B$4,'الإعدادات'!$B$2),'الإعدادات'!$B$5),2))
A11: 8 | K11: =SUM(F11:J11) | M11: =IF(L11>0,ROUND((F11+G11+H11+I11)/'الإعدادات'!$B$8*L11,2),0) | N11: =IF(F11+G11=0,0,MIN(MAX(F11+G11,'الإعدادات'!$B$6),'الإعدادات'!$B$7)) | O11: =IF(D11="سعودي",ROUND(N11*IF(E11="الجديد",'الإعدادات'!$B$3,'الإعدادات'!$B$1),2),0) | Q11: =K11-M11-O11-P11 | R11: =IF(N11=0,0,ROUND(N11*IF(D11="سعودي",IF(E11="الجديد",'الإعدادات'!$B$4,'الإعدادات'!$B$2),'الإعدادات'!$B$5),2))
A12: 9 | K12: =SUM(F12:J12) | M12: =IF(L12>0,ROUND((F12+G12+H12+I12)/'الإعدادات'!$B$8*L12,2),0) | N12: =IF(F12+G12=0,0,MIN(MAX(F12+G12,'الإعدادات'!$B$6),'الإعدادات'!$B$7)) | O12: =IF(D12="سعودي",ROUND(N12*IF(E12="الجديد",'الإعدادات'!$B$3,'الإعدادات'!$B$1),2),0) | Q12: =K12-M12-O12-P12 | R12: =IF(N12=0,0,ROUND(N12*IF(D12="سعودي",IF(E12="الجديد",'الإعدادات'!$B$4,'الإعدادات'!$B$2),'الإعدادات'!$B$5),2))
A13: 10 | K13: =SUM(F13:J13) | M13: =IF(L13>0,ROUND((F13+G13+H13+I13)/'الإعدادات'!$B$8*L13,2),0) | N13: =IF(F13+G13=0,0,MIN(MAX(F13+G13,'الإعدادات'!$B$6),'الإعدادات'!$B$7)) | O13: =IF(D13="سعودي",ROUND(N13*IF(E13="الجديد",'الإعدادات'!$B$3,'الإعدادات'!$B$1),2),0) | Q13: =K13-M13-O13-P13 | R13: =IF(N13=0,0,ROUND(N13*IF(D13="سعودي",IF(E13="الجديد",'الإعدادات'!$B$4,'الإعدادات'!$B$2),'الإعدادات'!$B$5),2))
A14: 11 | K14: =SUM(F14:J14) | M14: =IF(L14>0,ROUND((F14+G14+H14+I14)/'الإعدادات'!$B$8*L14,2),0) | N14: =IF(F14+G14=0,0,MIN(MAX(F14+G14,'الإعدادات'!$B$6),'الإعدادات'!$B$7)) | O14: =IF(D14="سعودي",ROUND(N14*IF(E14="الجديد",'الإعدادات'!$B$3,'الإعدادات'!$B$1),2),0) | Q14: =K14-M14-O14-P14 | R14: =IF(N14=0,0,ROUND(N14*IF(D14="سعودي",IF(E14="الجديد",'الإعدادات'!$B$4,'الإعدادات'!$B$2),'الإعدادات'!$B$5),2))
A15: 12 | K15: =SUM(F15:J15) | M15: =IF(L15>0,ROUND((F15+G15+H15+I15)/'الإعدادات'!$B$8*L15,2),0) | N15: =IF(F15+G15=0,0,MIN(MAX(F15+G15,'الإعدادات'!$B$6),'الإعدادات'!$B$7)) | O15: =IF(D15="سعودي",ROUND(N15*IF(E15="الجديد",'الإعدادات'!$B$3,'الإعدادات'!$B$1),2),0) | Q15: =K15-M15-O15-P15 | R15: =IF(N15=0,0,ROUND(N15*IF(D15="سعودي",IF(E15="الجديد",'الإعدادات'!$B$4,'الإعدادات'!$B$2),'الإعدادات'!$B$5),2))
... A53: 50 | K53: =SUM(F53:J53) | M53: =IF(L53>0,ROUND((F53+G53+H53+I53)/'الإعدادات'!$B$8*L53,2),0) | N53: =IF(F53+G53=0,0,MIN(MAX(F53+G53,'الإعدادات'!$B$6),'الإعدادات'!$B$7)) | O53: =IF(D53="سعودي",ROUND(N53*IF(E53="الجديد",'الإعدادات'!$B$3,'الإعدادات'!$B$1),2),0) | Q53: =K53-M53-O53-P53 | R53: =IF(N53=0,0,ROUND(N53*IF(D53="سعودي",IF(E53="الجديد",'الإعدادات'!$B$4,'الإعدادات'!$B$2),'الإعدادات'!$B$5),2))
B54: الإجمالي | F54: =SUM(F4:F53) | G54: =SUM(G4:G53) | H54: =SUM(H4:H53) | I54: =SUM(I4:I53) | J54: =SUM(J4:J53) | K54: =SUM(K4:K53) | M54: =SUM(M4:M53) | N54: =SUM(N4:N53) | O54: =SUM(O4:O53) | P54: =SUM(P4:P53) | Q54: =SUM(Q4:Q53) | R54: =SUM(R4:R53)

Sheet طريقة الاستخدام
A1: مسير الرواتب: املأ الخلايا الصفراء فقط، ويُحسب الإجمالي والتأمينات والخصومات والصافي تلقائيًا.
A2: نظام التأمينات: اختر «السابق» للسعودي الذي لديه اشتراكات قبل 3 يوليو 2024، و«الجديد» لمن ليس لديه. راجع التأمينات عند الشك.
A3: الأجر الخاضع للاشتراك هو الأساسي مع السكن، بين الحدين الأدنى والأعلى في ورقة الإعدادات.
A4: خصم الغياب = (الأساسي + السكن + النقل + البدلات الأخرى) ÷ أيام حساب أجر اليوم × أيام الغياب دون أجر. عدّله إن نص عقدك على غير ذلك.
A5: الحضور: اكتب رمزًا واحدًا لكل يوم من القائمة، وتُعدّ المجاميع كل رمز.
A6: هذا الملف نموذج مجاني من رفيق HR (rafiqhr.com) وتقدير وليس استشارة رواتب أو قانونية. يدير رفيق HR الرواتب والتأمينات وملف مدد من سجل موظف واحد.
